BEGIN:VCALENDAR
VERSION:2.0
PRODID:-//wp-events-plugin.com//6.6.4.4//EN
TZID:Europe/Paris
X-WR-TIMEZONE:Europe/Paris
BEGIN:VEVENT
UID:5489@recyclarte.org
DTSTART;TZID=Europe/Paris:20260207T160000
DTEND;TZID=Europe/Paris:20260207T180000
DTSTAMP:20260203T160458Z
URL:https://www.recyclarte.org/events/assemblee-generale/
SUMMARY:Assemblée Générale
DESCRIPTION:Bilan de l'année 2025- votes des perspectives pour 2026---\n\n
 Ouvert à tou-t-es---Seul-e-s les adhérent-e-s à jour de leur cotisation
  ont le droit de vote
CATEGORIES:Evènements
LOCATION:Salle de l'autoport\, 28 rue de l'autoport\, Hendaye\, 64700\, Fra
 nce
GEO:43.346787;-1.77195
X-APPLE-STRUCTURED-LOCATION;VALUE=URI;X-ADDRESS=28 rue de l'autoport\, Hend
 aye\, 64700\, France;X-APPLE-RADIUS=100;X-TITLE=Salle de l'autoport:geo:43
 .346787,-1.77195
END:VEVENT
BEGIN:VTIMEZONE
TZID:Europe/Paris
X-LIC-LOCATION:Europe/Paris
BEGIN:STANDARD
DTSTART:20251026T020000
TZOFFSETFROM:+0200
TZOFFSETTO:+0100
TZNAME:CET
END:STANDARD
END:VTIMEZONE
END:VCALENDAR