BEGIN:VCALENDAR
VERSION:2.0
PRODID:-//wp-events-plugin.com//6.6.4.4//EN
TZID:Europe/Paris
X-WR-TIMEZONE:Europe/Paris
BEGIN:VEVENT
UID:4785@recyclarte.org
DTSTART;TZID=Europe/Paris:20240325T143000
DTEND;TZID=Europe/Paris:20240325T170000
DTSTAMP:20240228T094227Z
URL:https://www.recyclarte.org/events/atelier-autoreparation-dobjet-repair
 -cafe-2/
SUMMARY:Atelier autoréparation d&rsquo\;objet (repair café)
DESCRIPTION:Un objet cassé/en panne ? Essaie de le réparer lors du repair
  café avec Alain !
CATEGORIES:Ateliers,Repair café
LOCATION:Local des Joncaux\, 16 rue Leku Eder\, Hendaye\, 64700\, France
X-APPLE-STRUCTURED-LOCATION;VALUE=URI;X-ADDRESS=16 rue Leku Eder\, Hendaye\
 , 64700\, France;X-APPLE-RADIUS=100;X-TITLE=Local des Joncaux:geo:0,0
END:VEVENT
BEGIN:VTIMEZONE
TZID:Europe/Paris
X-LIC-LOCATION:Europe/Paris
BEGIN:STANDARD
DTSTART:20231029T020000
TZOFFSETFROM:+0200
TZOFFSETTO:+0100
TZNAME:CET
END:STANDARD
END:VTIMEZONE
END:VCALENDAR