BEGIN:VCALENDAR
VERSION:2.0
PRODID:-//wp-events-plugin.com//6.6.4.4//EN
TZID:Europe/Paris
X-WR-TIMEZONE:Europe/Paris
BEGIN:VEVENT
UID:4780@recyclarte.org
DTSTART;TZID=Europe/Paris:20250328T140000
DTEND;TZID=Europe/Paris:20250328T173000
DTSTAMP:20250225T065504Z
URL:https://www.recyclarte.org/events/atelier-couture-a-bidart-marmite-nor
 vegienne-2/
SUMMARY:Atelier couture à Bidart (marmite norvégienne)
DESCRIPTION:Viens coudre ta marmite norvégienne. Il est nécessaire de ven
 ir de façon assidue aux 3 heures d'atelier (et d'arriver à l'heure) pour
  finir ton projet couture\, sauf si tu as une machine à coudre chez toi e
 t que tu peux finir toute seule.\n\nViens avec un tissu en coton 1m x1m et
  ta machine à coudre si tu en as ou sinon nous te fournissons tout !\n\nL
 'atelier a lieu au local Hiri Artea de l'association Selgarrekin (cliquer 
 sur le lien google maps ici) . Attention ce n'est pas au local de la gratu
 iterie.\n\nSur inscription uniquement
CATEGORIES:Couture
LOCATION:local hiri artea\, rue hiri artea\, bidart\, 64\, 64210\, France
GEO:43.437189;-1.575597
X-APPLE-STRUCTURED-LOCATION;VALUE=URI;X-ADDRESS=rue hiri artea\, bidart\, 6
 4\, 64210\, France;X-APPLE-RADIUS=100;X-TITLE=local hiri artea:geo:43.4371
 89,-1.575597
END:VEVENT
BEGIN:VTIMEZONE
TZID:Europe/Paris
X-LIC-LOCATION:Europe/Paris
BEGIN:STANDARD
DTSTART:20241027T020000
TZOFFSETFROM:+0200
TZOFFSETTO:+0100
TZNAME:CET
END:STANDARD
END:VTIMEZONE
END:VCALENDAR