BEGIN:VCALENDAR
VERSION:2.0
PRODID:-//wp-events-plugin.com//6.6.4.4//EN
TZID:Europe/Paris
X-WR-TIMEZONE:Europe/Paris
BEGIN:VEVENT
UID:4777@recyclarte.org
DTSTART;TZID=Europe/Paris:20240216T140000
DTEND;TZID=Europe/Paris:20240216T170000
DTSTAMP:20240131T072052Z
URL:https://www.recyclarte.org/events/atelier-couture-a-bidart-marmite-nor
 vegienne/
SUMMARY:Atelier couture à Bidart (marmite norvégienne)
DESCRIPTION:Viens coudre une marmite norvégienne\n\nL'atelier a lieu au lo
 cal Hiri Artea de l'association Selgarrekin à Bidart. \n\nPossibilité de
  covoiturer: contact@recyclarte.org\n\nSur inscription uniquement
CATEGORIES:Couture
END:VEVENT
BEGIN:VTIMEZONE
TZID:Europe/Paris
X-LIC-LOCATION:Europe/Paris
BEGIN:STANDARD
DTSTART:20231029T020000
TZOFFSETFROM:+0200
TZOFFSETTO:+0100
TZNAME:CET
END:STANDARD
END:VTIMEZONE
END:VCALENDAR