BEGIN:VCALENDAR
VERSION:2.0
PRODID:-//wp-events-plugin.com//6.6.4.4//EN
TZID:Europe/Paris
X-WR-TIMEZONE:Europe/Paris
BEGIN:VEVENT
UID:4781@recyclarte.org
DTSTART;TZID=Europe/Paris:20240308T140000
DTEND;TZID=Europe/Paris:20240308T170000
DTSTAMP:20240228T072842Z
URL:https://www.recyclarte.org/events/atelier-couture-a-bidart-serviette-m
 enstruelle/
SUMMARY:Atelier couture à Bidart (serviette menstruelle)
DESCRIPTION:Viens coudre une ou des serviettes menstruelles. Si tu souhaite
 s fabriquer une culotte menstruelle: viens avec pour qu'on la transforme\n
 \nL'atelier a lieu au local Hirri Artea de l'association Selgarrekin (quar
 tier Hirri Artea à Bidart\, et non pas au local de la gratuiterie )\n\nSu
 r inscription uniquement
CATEGORIES:Couture
END:VEVENT
BEGIN:VTIMEZONE
TZID:Europe/Paris
X-LIC-LOCATION:Europe/Paris
BEGIN:STANDARD
DTSTART:20231029T020000
TZOFFSETFROM:+0200
TZOFFSETTO:+0100
TZNAME:CET
END:STANDARD
END:VTIMEZONE
END:VCALENDAR