BEGIN:VCALENDAR
VERSION:2.0
PRODID:-//wp-events-plugin.com//6.6.4.4//EN
TZID:Europe/Paris
X-WR-TIMEZONE:Europe/Paris
BEGIN:VEVENT
UID:4776@recyclarte.org
DTSTART;TZID=Europe/Paris:20240216T140000
DTEND;TZID=Europe/Paris:20240216T170000
DTSTAMP:20240131T071857Z
URL:https://www.recyclarte.org/events/atelier-couture-a-bidart-serviettes-
 ou-culottes-menstruelles/
SUMMARY:Atelier couture à Bidart (serviettes ou culottes menstruelles)
DESCRIPTION:Viens coudre tes serviettes menstruelles lavables ou si tu souh
 aites fabriquer des culottes menstruelles: viens avec tes culottes pour qu
 'on les transforme. \n\nL'atelier a lieu au local Hiri Artea de l'associat
 ion Selgarrekin à Bidart. \n\npossibilité de covoiturer: contact@recycla
 rte.org\n\nSur inscription uniquement
CATEGORIES:Couture
END:VEVENT
BEGIN:VTIMEZONE
TZID:Europe/Paris
X-LIC-LOCATION:Europe/Paris
BEGIN:STANDARD
DTSTART:20231029T020000
TZOFFSETFROM:+0200
TZOFFSETTO:+0100
TZNAME:CET
END:STANDARD
END:VTIMEZONE
END:VCALENDAR