BEGIN:VCALENDAR
VERSION:2.0
PRODID:-//wp-events-plugin.com//6.6.4.4//EN
TZID:Europe/Paris
X-WR-TIMEZONE:Europe/Paris
BEGIN:VEVENT
UID:4779@recyclarte.org
DTSTART;TZID=Europe/Paris:20240304T140000
DTEND;TZID=Europe/Paris:20240304T160000
DTSTAMP:20240228T071928Z
URL:https://www.recyclarte.org/events/atelier-couture-a-denentzat-marmite-
 norvegienne-3/
SUMMARY:Atelier couture à Denentzat (marmite norvégienne)
DESCRIPTION:Viens coudre ta marmite norvégienne. Il est nécessaire de ven
 ir aux 2 ateliers (le 2eme a lieu le 18 mars) pour finir son projet coutur
 e\, sauf si tu as une machine à coudre chez toi et que tu peux finir tout
 e seule.\n\nL'atelier a lieu au centre social Denentzat (Hendaye)\n\nSur i
 nscription uniquement en envoyant un mail à coordination@recyclarte.org (
 pas d'inscription via notre site web pour cet atelier)
CATEGORIES:Couture
END:VEVENT
BEGIN:VTIMEZONE
TZID:Europe/Paris
X-LIC-LOCATION:Europe/Paris
BEGIN:STANDARD
DTSTART:20231029T020000
TZOFFSETFROM:+0200
TZOFFSETTO:+0100
TZNAME:CET
END:STANDARD
END:VTIMEZONE
END:VCALENDAR