BEGIN:VCALENDAR
VERSION:2.0
PRODID:-//wp-events-plugin.com//6.6.4.4//EN
TZID:Europe/Paris
X-WR-TIMEZONE:Europe/Paris
BEGIN:VEVENT
UID:4782@recyclarte.org
DTSTART;TZID=Europe/Paris:20240320T090000
DTEND;TZID=Europe/Paris:20240320T120000
DTSTAMP:20240228T073012Z
URL:https://www.recyclarte.org/events/atelier-couture-a-recyclarte-serviet
 te-menstruelle/
SUMMARY:Atelier couture à Recycl&rsquo\;Arte (serviette menstruelle)
DESCRIPTION:Viens coudre une ou des serviettes menstruelles. On fournit les
  tissus. Si tu souhaites fabriquer une culotte menstruelle: viens avec pou
 r qu'on la transforme\n\nL'atelier a lieu au local de Recycl'Arte\n\nSur i
 nscription uniquement
CATEGORIES:Couture
END:VEVENT
BEGIN:VTIMEZONE
TZID:Europe/Paris
X-LIC-LOCATION:Europe/Paris
BEGIN:STANDARD
DTSTART:20231029T020000
TZOFFSETFROM:+0200
TZOFFSETTO:+0100
TZNAME:CET
END:STANDARD
END:VTIMEZONE
END:VCALENDAR