BEGIN:VCALENDAR
VERSION:2.0
PRODID:-//wp-events-plugin.com//6.6.4.4//EN
TZID:Europe/Paris
X-WR-TIMEZONE:Europe/Paris
BEGIN:VEVENT
UID:5514@recyclarte.org
DTSTART;TZID=Europe/Paris:20260509T090000
DTEND;TZID=Europe/Paris:20260509T120000
DTSTAMP:20260423T152706Z
URL:https://www.recyclarte.org/events/atelier-couture-libre-a-recyclarte-4
 /
SUMMARY:Atelier couture libre à Recycl&rsquo\;Arte
DESCRIPTION:
CATEGORIES:Repair café
LOCATION:Recycl'Arte\, 18 rue leku Eder\, Hendaye\, France
GEO:43.346942;-1.772728
X-APPLE-STRUCTURED-LOCATION;VALUE=URI;X-ADDRESS=18 rue leku Eder\, Hendaye\
 , France;X-APPLE-RADIUS=100;X-TITLE=Recycl'Arte:geo:43.346942,-1.772728
END:VEVENT
BEGIN:VTIMEZONE
TZID:Europe/Paris
X-LIC-LOCATION:Europe/Paris
BEGIN:DAYLIGHT
DTSTART:20260329T030000
TZOFFSETFROM:+0100
TZOFFSETTO:+0200
TZNAME:CEST
END:DAYLIGHT
END:VTIMEZONE
END:VCALENDAR