BEGIN:VCALENDAR
VERSION:2.0
PRODID:-//wp-events-plugin.com//6.6.4.4//EN
TZID:Europe/Paris
X-WR-TIMEZONE:Europe/Paris
BEGIN:VEVENT
UID:5497@recyclarte.org
DTSTART;TZID=Europe/Paris:20260315T100000
DTEND;TZID=Europe/Paris:20260315T130000
DTSTAMP:20260306T124917Z
URL:https://www.recyclarte.org/events/atelier-fabrication-de-culottes-mens
 truelle-a-la-generale/
SUMMARY:Atelier fabrication de culottes menstruelle à La Générale
DESCRIPTION:Dimanche 15/03 - 10h 13h au tiers lieu @la.generale.anglet\nAte
 lier fabrication de culottes menstruelles \nViens avec ta culotte et on te
  donne les tissus pour la transformer en culotte de règle: une bonne faç
 on de lier écologie et économies.\nL'atelier est organisé pendant l'év
 énement "Vide dressing" de printemps de la Générale.\nSur inscription :
  https://app.shakerapp.io/8b10b12f-53e4-4e2e-9893-57914b536d72/events/6531
 16f0-0065-4728-b465-7084731ffad6
CATEGORIES:Couture
LOCATION:La Générale Tiers lieu santé globale\, 23 allée des Artisans \
 , Anglet\, France
GEO:43.519396;-1.49943
X-APPLE-STRUCTURED-LOCATION;VALUE=URI;X-ADDRESS=23 allée des Artisans \, A
 nglet\, France;X-APPLE-RADIUS=100;X-TITLE=La Générale Tiers lieu santé 
 globale:geo:43.519396,-1.49943
END:VEVENT
BEGIN:VTIMEZONE
TZID:Europe/Paris
X-LIC-LOCATION:Europe/Paris
BEGIN:STANDARD
DTSTART:20251026T020000
TZOFFSETFROM:+0200
TZOFFSETTO:+0100
TZNAME:CET
END:STANDARD
END:VTIMEZONE
END:VCALENDAR