BEGIN:VCALENDAR
VERSION:2.0
PRODID:-//wp-events-plugin.com//6.6.4.4//EN
TZID:Europe/Paris
X-WR-TIMEZONE:Europe/Paris
BEGIN:VEVENT
UID:5482@recyclarte.org
DTSTART;TZID=Europe/Paris:20251129T093000
DTEND;TZID=Europe/Paris:20251129T120000
DTSTAMP:20251104T161255Z
URL:https://www.recyclarte.org/events/atelier-fabrication-serviettes-menst
 ruelles-mediatheque-dhendaye/
SUMMARY:Atelier fabrication serviettes menstruelles &#8211\; Médiathèque 
 d&rsquo\;Hendaye
DESCRIPTION:
CATEGORIES:Couture
END:VEVENT
BEGIN:VTIMEZONE
TZID:Europe/Paris
X-LIC-LOCATION:Europe/Paris
BEGIN:STANDARD
DTSTART:20251026T020000
TZOFFSETFROM:+0200
TZOFFSETTO:+0100
TZNAME:CET
END:STANDARD
END:VTIMEZONE
END:VCALENDAR