BEGIN:VCALENDAR
VERSION:2.0
PRODID:-//wp-events-plugin.com//6.6.4.4//EN
TZID:Europe/Paris
X-WR-TIMEZONE:Europe/Paris
BEGIN:VEVENT
UID:4062@recyclarte.org
DTSTART;TZID=Europe/Paris:20230409T090000
DTEND;TZID=Europe/Paris:20230409T120000
DTSTAMP:20220830T145234Z
URL:https://www.recyclarte.org/events/atelier-velo-participatif-au-marche-
 de-ciboure-3-2023-04-09/
SUMMARY:Vélo &#8211\; atelier participatif au marché de Ciboure
DESCRIPTION:Venez réviser votre vélo\, le réparer\, discuter et partager
 .\nEt puis acheter des légumes\, des fruits\, du fromage\, de la paella :
 -)
CATEGORIES:Vélo
LOCATION:Marché de Ciboure\, 5 Quai Maurice Ravel\, Ciboure\, 64500\, Fran
 ce
GEO:43.3845992;-1.6671310000000403
X-APPLE-STRUCTURED-LOCATION;VALUE=URI;X-ADDRESS=5 Quai Maurice Ravel\, Cibo
 ure\, 64500\, France;X-APPLE-RADIUS=100;X-TITLE=Marché de Ciboure:geo:43.
 3845992,-1.6671310000000403
END:VEVENT
BEGIN:VTIMEZONE
TZID:Europe/Paris
X-LIC-LOCATION:Europe/Paris
BEGIN:DAYLIGHT
DTSTART:20230326T030000
TZOFFSETFROM:+0100
TZOFFSETTO:+0200
TZNAME:CEST
END:DAYLIGHT
END:VTIMEZONE
END:VCALENDAR