BEGIN:VCALENDAR
VERSION:2.0
PRODID:-//wp-events-plugin.com//6.6.4.4//EN
TZID:Europe/Paris
X-WR-TIMEZONE:Europe/Paris
BEGIN:VEVENT
UID:5511@recyclarte.org
DTSTART;TZID=Europe/Paris:20260522T140000
DTEND;TZID=Europe/Paris:20260522T170000
DTSTAMP:20260421T111058Z
URL:https://www.recyclarte.org/events/balade-velo-2/
SUMMARY:Balade vélo
DESCRIPTION:Départ de Recycl'Arte\, ballade vers les 3 couronnes et la cid
 rerie Ola et les anciennes mines. Départ 14h à Recycl'Arte. Pause dans u
 n bar sur le chemin (au choix). Retour 17h\n\nPour t'inscrire envoie un SM
 S à Claire : 0689589806
CATEGORIES:Vélo
END:VEVENT
BEGIN:VTIMEZONE
TZID:Europe/Paris
X-LIC-LOCATION:Europe/Paris
BEGIN:DAYLIGHT
DTSTART:20260329T030000
TZOFFSETFROM:+0100
TZOFFSETTO:+0200
TZNAME:CEST
END:DAYLIGHT
END:VTIMEZONE
END:VCALENDAR