BEGIN:VCALENDAR
VERSION:2.0
PRODID:-//wp-events-plugin.com//6.6.4.4//EN
TZID:Europe/Paris
X-WR-TIMEZONE:Europe/Paris
BEGIN:VEVENT
UID:5510@recyclarte.org
DTSTART;TZID=Europe/Paris:20260506T100000
DTEND;TZID=Europe/Paris:20260506T120000
DTSTAMP:20260421T110455Z
URL:https://www.recyclarte.org/events/balade-velo/
SUMMARY:Balade vélo
DESCRIPTION:Départ de Recycl'Arte\, ballade sur la baie\, pause au marché
  d'Hendaye. Départ 10h à Recycl'Arte. Retour 12h\n\nPour t'inscrire envo
 ie un SMS à Claire : 0689589806
CATEGORIES:Vélo
END:VEVENT
BEGIN:VTIMEZONE
TZID:Europe/Paris
X-LIC-LOCATION:Europe/Paris
BEGIN:DAYLIGHT
DTSTART:20260329T030000
TZOFFSETFROM:+0100
TZOFFSETTO:+0200
TZNAME:CEST
END:DAYLIGHT
END:VTIMEZONE
END:VCALENDAR