BEGIN:VCALENDAR
VERSION:2.0
PRODID:-//wp-events-plugin.com//6.6.4.4//EN
TZID:Europe/Paris
X-WR-TIMEZONE:Europe/Paris
BEGIN:VEVENT
UID:4328@recyclarte.org
DTSTART;TZID=Europe/Paris:20230617T160000
DTEND;TZID=Europe/Paris:20230617T200000
DTSTAMP:20230523T082221Z
URL:https://www.recyclarte.org/events/bizikleta-festa-23/
SUMMARY:Bizikleta Festa
DESCRIPTION:
CATEGORIES:Evènements
LOCATION:Anzarran\, Barrio Anzaran\, Irun\, Espagne
GEO:43.344992;-1.796068
X-APPLE-STRUCTURED-LOCATION;VALUE=URI;X-ADDRESS=Barrio Anzaran\, Irun\, Esp
 agne;X-APPLE-RADIUS=100;X-TITLE=Anzarran:geo:43.344992,-1.796068
END:VEVENT
BEGIN:VTIMEZONE
TZID:Europe/Paris
X-LIC-LOCATION:Europe/Paris
BEGIN:DAYLIGHT
DTSTART:20230326T030000
TZOFFSETFROM:+0100
TZOFFSETTO:+0200
TZNAME:CEST
END:DAYLIGHT
END:VTIMEZONE
END:VCALENDAR