BEGIN:VCALENDAR
VERSION:2.0
PRODID:-//wp-events-plugin.com//6.6.4.4//EN
TZID:Europe/Paris
X-WR-TIMEZONE:Europe/Paris
BEGIN:VEVENT
UID:4822@recyclarte.org
DTSTART;TZID=Europe/Paris:20241006T093000
DTEND;TZID=Europe/Paris:20241006T170000
DTSTAMP:20240827T161140Z
URL:https://www.recyclarte.org/events/bourse-aux-velos-a-st-jean-de-luz/
SUMMARY:Bourse aux vélos / Vide-grenier à St Jean de Luz
DESCRIPTION:Vends ou achète ton vélo d'occasion. De nombreux vélos pour 
 tous les goûts et tous les âges. 9h30-12h30: dépôt des vélos par les 
 vendeurs13h30-17h: vente des vélos aux acheteurs\n\n\nUne commission est 
 prévue au profit de l'association. \n\nVide-grenier organisé par le cent
 re social Sagardian en même temps dans le gymnase.\n\nLieu: gymnase urdaz
 uri\, devant le lycée Ravel\, St Jean de Luz
CATEGORIES:Evènements
END:VEVENT
BEGIN:VTIMEZONE
TZID:Europe/Paris
X-LIC-LOCATION:Europe/Paris
BEGIN:DAYLIGHT
DTSTART:20240331T030000
TZOFFSETFROM:+0100
TZOFFSETTO:+0200
TZNAME:CEST
END:DAYLIGHT
END:VTIMEZONE
END:VCALENDAR