BEGIN:VCALENDAR
VERSION:2.0
PRODID:-//wp-events-plugin.com//6.6.4.4//EN
TZID:Europe/Paris
X-WR-TIMEZONE:Europe/Paris
BEGIN:VEVENT
UID:4307@recyclarte.org
DTSTART;TZID=Europe/Paris:20230225T093000
DTEND;TZID=Europe/Paris:20230225T130000
DTSTAMP:20230126T090426Z
URL:https://www.recyclarte.org/events/couture-chausson-sur-inscription/
SUMMARY:Couture – chausson – sur inscription
DESCRIPTION: Création: viens faire tes chausson\n\n\nOn fournit mais tu p
 eux aussi ramener ton tissu (serviette éponge) coloré\n\nA Recycl'Arte\,
  sur réservation
CATEGORIES:Couture
LOCATION:Local des Joncaux\, 18 rue Leku Eder\, Hendaye\, 64700\, France
GEO:43.3476705;-1.7736766000000443
X-APPLE-STRUCTURED-LOCATION;VALUE=URI;X-ADDRESS=18 rue Leku Eder\, Hendaye\
 , 64700\, France;X-APPLE-RADIUS=100;X-TITLE=Local des Joncaux:geo:43.34767
 05,-1.7736766000000443
END:VEVENT
BEGIN:VTIMEZONE
TZID:Europe/Paris
X-LIC-LOCATION:Europe/Paris
BEGIN:STANDARD
DTSTART:20221030T020000
TZOFFSETFROM:+0200
TZOFFSETTO:+0100
TZNAME:CET
END:STANDARD
END:VTIMEZONE
END:VCALENDAR