BEGIN:VCALENDAR
VERSION:2.0
PRODID:-//wp-events-plugin.com//6.6.4.4//EN
TZID:Europe/Paris
X-WR-TIMEZONE:Europe/Paris
BEGIN:VEVENT
UID:4778@recyclarte.org
DTSTART;TZID=Europe/Paris:20240316T090000
DTEND;TZID=Europe/Paris:20240316T120000
DTSTAMP:20240228T070706Z
URL:https://www.recyclarte.org/events/couture-creation-dun-porte-monnaie-b
 rode-sur-inscription/
SUMMARY:Couture – création d&rsquo\;un porte monnaie brodé – sur insc
 ription
DESCRIPTION:Avec Daphnée\, viens créer ton porte monnaie brodé avec le t
 exte/ message que tu veux. Nous fournissons le skaï récupéré auprès d
 e l'entreprise Sokoa. Tu peux amener une glissière zip si tu en as. Sinon
  on t'en donne une.\n\nMerci d'arriver à l'heure !\n\nsur inscription uni
 quement
CATEGORIES:Ateliers,Couture
END:VEVENT
BEGIN:VTIMEZONE
TZID:Europe/Paris
X-LIC-LOCATION:Europe/Paris
BEGIN:STANDARD
DTSTART:20231029T020000
TZOFFSETFROM:+0200
TZOFFSETTO:+0100
TZNAME:CET
END:STANDARD
END:VTIMEZONE
END:VCALENDAR