BEGIN:VCALENDAR
VERSION:2.0
PRODID:-//wp-events-plugin.com//6.6.4.4//EN
TZID:Europe/Paris
X-WR-TIMEZONE:Europe/Paris
BEGIN:VEVENT
UID:4795@recyclarte.org
DTSTART;TZID=Europe/Paris:20240608T090000
DTEND;TZID=Europe/Paris:20240608T120000
DTSTAMP:20240501T191703Z
URL:https://www.recyclarte.org/events/couture-creation-maxi-sac-de-plage-s
 ur-inscription-2/
SUMMARY:Couture – création vide poche – sur inscription
DESCRIPTION:Vide poche  (spéciale couturière débutante)\n\nApprentissag
 es:\n\n• Enfilage machine à coudre\n• Premier pas avec machine à cou
 dre (couture droite\, point d'arrêt\, couture en angle droit et couture e
 n arrondis.)\n• Réalisation d'un vide-poche\nEn composants de récup' q
 ue nous fournissons. Prêt d'une machine à coudre de l'association ou si 
 tu en as une: ramène là et on t'apprendra à t'en servir\n\n\nAvec Daphn
 ée\n\nMerci d'arriver à l'heure !\n\nsur inscription uniquement
CATEGORIES:Couture
END:VEVENT
BEGIN:VTIMEZONE
TZID:Europe/Paris
X-LIC-LOCATION:Europe/Paris
BEGIN:DAYLIGHT
DTSTART:20240331T030000
TZOFFSETFROM:+0100
TZOFFSETTO:+0200
TZNAME:CEST
END:DAYLIGHT
END:VTIMEZONE
END:VCALENDAR