BEGIN:VCALENDAR
VERSION:2.0
PRODID:-//wp-events-plugin.com//6.6.4.4//EN
TZID:Europe/Paris
X-WR-TIMEZONE:Europe/Paris
BEGIN:VEVENT
UID:4794@recyclarte.org
DTSTART;TZID=Europe/Paris:20240511T090000
DTEND;TZID=Europe/Paris:20240511T120000
DTSTAMP:20240501T191103Z
URL:https://www.recyclarte.org/events/couture-creation-maxi-sac-de-plage-s
 ur-inscription/
SUMMARY:Couture – création maxi sac de plage – sur inscription
DESCRIPTION:Maxi sac de plage  (couturière confirmée)\n\nEn néoprène e
 t autres composants de récup' que nous fournissons.  \n\nPrêt d'une mac
 hine à coudre Pfaff Select 3.0 idt calibré par @hopitaldelamachine à co
 udre. \n\nAvec Daphnée\n\nMerci d'arriver à l'heure !\n\nsur inscriptio
 n uniquement
CATEGORIES:Couture
END:VEVENT
BEGIN:VTIMEZONE
TZID:Europe/Paris
X-LIC-LOCATION:Europe/Paris
BEGIN:DAYLIGHT
DTSTART:20240331T030000
TZOFFSETFROM:+0100
TZOFFSETTO:+0200
TZNAME:CEST
END:DAYLIGHT
END:VTIMEZONE
END:VCALENDAR