BEGIN:VCALENDAR
VERSION:2.0
PRODID:-//wp-events-plugin.com//6.6.4.4//EN
TZID:Europe/Paris
X-WR-TIMEZONE:Europe/Paris
BEGIN:VEVENT
UID:4543@recyclarte.org
DTSTART;TZID=Europe/Paris:20230913T093000
DTEND;TZID=Europe/Paris:20230913T120000
DTSTAMP:20230905T140043Z
URL:https://www.recyclarte.org/events/couture-customisation-cintres-sur-in
 scription/
SUMMARY:Couture – customisation cintres – sur inscription
DESCRIPTION:
CATEGORIES:Ateliers,Couture
END:VEVENT
BEGIN:VTIMEZONE
TZID:Europe/Paris
X-LIC-LOCATION:Europe/Paris
BEGIN:DAYLIGHT
DTSTART:20230326T030000
TZOFFSETFROM:+0100
TZOFFSETTO:+0200
TZNAME:CEST
END:DAYLIGHT
END:VTIMEZONE
END:VCALENDAR