BEGIN:VCALENDAR
VERSION:2.0
PRODID:-//wp-events-plugin.com//6.6.4.4//EN
TZID:Europe/Paris
X-WR-TIMEZONE:Europe/Paris
BEGIN:VEVENT
UID:4323@recyclarte.org
DTSTART;TZID=Europe/Paris:20230520T093000
DTEND;TZID=Europe/Paris:20230520T130000
DTSTAMP:20230503T074709Z
URL:https://www.recyclarte.org/events/couture-petites-pochettes-sur-inscri
 ption/
SUMMARY:Couture – petites pochettes – sur inscription
DESCRIPTION:Atelier sur inscription\n\nAvec Nadine
CATEGORIES:Couture
LOCATION:Local des Joncaux\, 18 rue Leku Eder\, Hendaye\, 64700\, France
GEO:43.3476705;-1.7736766000000443
X-APPLE-STRUCTURED-LOCATION;VALUE=URI;X-ADDRESS=18 rue Leku Eder\, Hendaye\
 , 64700\, France;X-APPLE-RADIUS=100;X-TITLE=Local des Joncaux:geo:43.34767
 05,-1.7736766000000443
END:VEVENT
BEGIN:VTIMEZONE
TZID:Europe/Paris
X-LIC-LOCATION:Europe/Paris
BEGIN:DAYLIGHT
DTSTART:20230326T030000
TZOFFSETFROM:+0100
TZOFFSETTO:+0200
TZNAME:CEST
END:DAYLIGHT
END:VTIMEZONE
END:VCALENDAR