BEGIN:VCALENDAR
VERSION:2.0
PRODID:-//wp-events-plugin.com//6.6.4.4//EN
TZID:Europe/Paris
X-WR-TIMEZONE:Europe/Paris
BEGIN:VEVENT
UID:4503@recyclarte.org
DTSTART;TZID=Europe/Paris:20231104T100000
DTEND;TZID=Europe/Paris:20231104T180000
DTSTAMP:20230725T135240Z
URL:https://www.recyclarte.org/events/fete-de-la-recup-2/
SUMMARY:Fête de la récup
DESCRIPTION:Fête de la récup aux Halles de Gaztelu Hendaye.\n\nDe nombreu
 x ateliers sur le thème de la récup'.
CATEGORIES:Evènements
END:VEVENT
BEGIN:VTIMEZONE
TZID:Europe/Paris
X-LIC-LOCATION:Europe/Paris
BEGIN:STANDARD
DTSTART:20231029T020000
TZOFFSETFROM:+0200
TZOFFSETTO:+0100
TZNAME:CET
END:STANDARD
END:VTIMEZONE
END:VCALENDAR