BEGIN:VCALENDAR
VERSION:2.0
PRODID:-//wp-events-plugin.com//6.6.4.4//EN
TZID:Europe/Paris
X-WR-TIMEZONE:Europe/Paris
BEGIN:VEVENT
UID:4545@recyclarte.org
DTSTART;TZID=Europe/Paris:20231014T100000
DTEND;TZID=Europe/Paris:20231014T130000
DTSTAMP:20230928T094955Z
URL:https://www.recyclarte.org/events/fete-de-la-science-marmite-norvegien
 ne/
SUMMARY:Fête de la science – Marmite norvégienne
DESCRIPTION:Démonstration marmite norvégienne (10h-13h / 15h-18h).
CATEGORIES:Evènements
LOCATION:Hendaye\, esplanade Sokoburu\, Esplanade Sokoburu\, Hendaye\, Fran
 ce
GEO:43.370602;-1.785304
X-APPLE-STRUCTURED-LOCATION;VALUE=URI;X-ADDRESS=Esplanade Sokoburu\, Henday
 e\, France;X-APPLE-RADIUS=100;X-TITLE=Hendaye\, esplanade Sokoburu:geo:43.
 370602,-1.785304
END:VEVENT
BEGIN:VTIMEZONE
TZID:Europe/Paris
X-LIC-LOCATION:Europe/Paris
BEGIN:DAYLIGHT
DTSTART:20230326T030000
TZOFFSETFROM:+0100
TZOFFSETTO:+0200
TZNAME:CEST
END:DAYLIGHT
END:VTIMEZONE
END:VCALENDAR