BEGIN:VCALENDAR
VERSION:2.0
PRODID:-//wp-events-plugin.com//6.6.4.4//EN
TZID:Europe/Paris
X-WR-TIMEZONE:Europe/Paris
BEGIN:VEVENT
UID:4327@recyclarte.org
DTSTART;TZID=Europe/Paris:20230610T100000
DTEND;TZID=Europe/Paris:20230610T163000
DTSTAMP:20230523T075818Z
URL:https://www.recyclarte.org/events/rando-velo-fete-du-velo/
SUMMARY:Rando vélo + fête du vélo
DESCRIPTION:BICI CONNECT\n[FR]\n\n10h : rando vélo - départ du pont de B
 éhobie (Hendaye/Irun)\n10h30 : pause avec goûter\n13h : arrivée des cyc
 listes des 3 régions (Nouvelle Aquitaine\, Euskadi\, Navarre) à Lesaka (
 fronton)\n13h-14h : dégustation offerte de produits locaux\n14h-16h30 : J
 eux pour toute la famille\, musique\, circuit vélo\, atelier diagnostic m
 écanique (viens avec ton vélo !)\n--\n[CAST]\n\n10h : paseo en bici - en
 cuentro en el puente de Behobie\n10h30 : pausa con merienda\n13h : llegada
  de los ciclistas de las 3 regiones (Nouvelle Aquitaine\, Euskadi\, Navarr
 a) en Lesaka (fronton)\n13h-14h : pintxo pote\n14h-16h : fiesta de la bici
  (juegos para toda la familia\, musica\, circuito de habilidad\, taller de
  bici (trae tu bici!)
CATEGORIES:Evènements
LOCATION:Fronton\, Fronton\, Lesaka\, Espagne
GEO:43.247553;-1.705725
X-APPLE-STRUCTURED-LOCATION;VALUE=URI;X-ADDRESS=Fronton\, Lesaka\, Espagne;
 X-APPLE-RADIUS=100;X-TITLE=Fronton:geo:43.247553,-1.705725
END:VEVENT
BEGIN:VTIMEZONE
TZID:Europe/Paris
X-LIC-LOCATION:Europe/Paris
BEGIN:DAYLIGHT
DTSTART:20230326T030000
TZOFFSETFROM:+0100
TZOFFSETTO:+0200
TZNAME:CEST
END:DAYLIGHT
END:VTIMEZONE
END:VCALENDAR