BEGIN:VCALENDAR
VERSION:2.0
PRODID:-//wp-events-plugin.com//6.6.4.4//EN
TZID:Europe/Paris
X-WR-TIMEZONE:Europe/Paris
BEGIN:VEVENT
UID:4311@recyclarte.org
DTSTART;TZID=Europe/Paris:20230313T143000
DTEND;TZID=Europe/Paris:20230313T170000
DTSTAMP:20230224T152837Z
URL:https://www.recyclarte.org/events/repair-cafe-coreparation-sur-inscrip
 tion-10/
SUMMARY:Repair café – coréparation – sur inscription
DESCRIPTION:Venez avec un objet ou un petit appareil que vous voudriez revo
 ir fonctionner\, Alain vous accompagnera pour tenter de le réparer. Répa
 ration petit objet Sur [...]
CATEGORIES:Repair café
LOCATION:Local des Joncaux\, 18 rue Leku Eder\, Hendaye\, 64700\, France
GEO:43.3476705;-1.7736766000000443
X-APPLE-STRUCTURED-LOCATION;VALUE=URI;X-ADDRESS=18 rue Leku Eder\, Hendaye\
 , 64700\, France;X-APPLE-RADIUS=100;X-TITLE=Local des Joncaux:geo:43.34767
 05,-1.7736766000000443
END:VEVENT
BEGIN:VTIMEZONE
TZID:Europe/Paris
X-LIC-LOCATION:Europe/Paris
BEGIN:STANDARD
DTSTART:20221030T020000
TZOFFSETFROM:+0200
TZOFFSETTO:+0100
TZNAME:CET
END:STANDARD
END:VTIMEZONE
END:VCALENDAR