BEGIN:VCALENDAR
VERSION:2.0
PRODID:-//wp-events-plugin.com//6.6.4.4//EN
TZID:Europe/Paris
X-WR-TIMEZONE:Europe/Paris
BEGIN:VEVENT
UID:4506@recyclarte.org
DTSTART;TZID=Europe/Paris:20231005T143000
DTEND;TZID=Europe/Paris:20231005T173000
DTSTAMP:20230912T170721Z
URL:https://www.recyclarte.org/events/repair-cafe-sauve-un-objet-de-ta-cav
 e-et-viens-le-reparer-avec-recyclarte-a-denentzat-sur-inscription/
SUMMARY:Repair café – Sauve un objet de ta cave et viens le réparer ave
 c Recycl&rsquo\;Arte a Denentzat – sur inscription
DESCRIPTION:Cet atelier spécial s'inscrit dans le cadre de la Semaine du D
 éveloppement Durable et de la Semaine Bleue.\nNous vous demandons de vous
  inscrire pour faire un inventaire des objets collectés et un diagnostic\
 , pour prise de conscience afin de les remettre en service pour vous ou po
 ur d'autres.\nToutes les générations (de personnes et d'objets) sont con
 cernées.\nInscription ci-dessous\, choisissez votre heure et venez à cel
 le-ci\, fin de l'atelier à 17h30.\nUn objet/appareil par personne merci.
 \n\nPour s'inscrire :\nhttp://www.recyclarte.org/inscription-a-latelier-ex
 ceptionnel-de-coreparation-repair-cafe/
CATEGORIES:Repair café
LOCATION:Local des Joncaux\, 18 rue Leku Eder\, Hendaye\, 64700\, France
GEO:43.3476705;-1.7736766000000443
X-APPLE-STRUCTURED-LOCATION;VALUE=URI;X-ADDRESS=18 rue Leku Eder\, Hendaye\
 , 64700\, France;X-APPLE-RADIUS=100;X-TITLE=Local des Joncaux:geo:43.34767
 05,-1.7736766000000443
END:VEVENT
BEGIN:VTIMEZONE
TZID:Europe/Paris
X-LIC-LOCATION:Europe/Paris
BEGIN:DAYLIGHT
DTSTART:20230326T030000
TZOFFSETFROM:+0100
TZOFFSETTO:+0200
TZNAME:CEST
END:DAYLIGHT
END:VTIMEZONE
END:VCALENDAR